BEGIN:VCALENDAR
VERSION:2.0
BEGIN:VEVENT
DTSTART:20220301T130000
DURATION:PT03H00M00S
SUMMARY:[COURSE] Διάλεξη
DESCRIPTION:
END:VEVENT
BEGIN:VEVENT
DTSTART:20220308T130000
DURATION:PT03H00M00S
SUMMARY:[COURSE] Διάλεξη
DESCRIPTION:
END:VEVENT
BEGIN:VEVENT
DTSTART:20220315T130000
DURATION:PT03H00M00S
SUMMARY:[COURSE] Διάλεξη
DESCRIPTION:
END:VEVENT
BEGIN:VEVENT
DTSTART:20220322T130000
DURATION:PT03H00M00S
SUMMARY:[COURSE] Διάλεξη
DESCRIPTION:
END:VEVENT
BEGIN:VEVENT
DTSTART:20220329T130000
DURATION:PT03H00M00S
SUMMARY:[COURSE] Διάλεξη
DESCRIPTION:
END:VEVENT
BEGIN:VEVENT
DTSTART:20220405T130000
DURATION:PT03H00M00S
SUMMARY:[COURSE] Διάλεξη
DESCRIPTION:
END:VEVENT
BEGIN:VEVENT
DTSTART:20220412T130000
DURATION:PT03H00M00S
SUMMARY:[COURSE] Διάλεξη
DESCRIPTION:
END:VEVENT
BEGIN:VEVENT
DTSTART:20220419T130000
DURATION:PT03H00M00S
SUMMARY:[COURSE] Διάλεξη
DESCRIPTION:
END:VEVENT
BEGIN:VEVENT
DTSTART:20220503T130000
DURATION:PT03H00M00S
SUMMARY:[COURSE] Διάλεξη
DESCRIPTION:
END:VEVENT
BEGIN:VEVENT
DTSTART:20220510T130000
DURATION:PT03H00M00S
SUMMARY:[COURSE] Διάλεξη
DESCRIPTION:
END:VEVENT
BEGIN:VEVENT
DTSTART:20220517T130000
DURATION:PT03H00M00S
SUMMARY:[COURSE] Διάλεξη
DESCRIPTION:
END:VEVENT
BEGIN:VEVENT
DTSTART:20220524T130000
DURATION:PT03H00M00S
SUMMARY:[COURSE] Διάλεξη
DESCRIPTION:
END:VEVENT
BEGIN:VEVENT
DTSTART:20220531T130000
DURATION:PT03H00M00S
SUMMARY:[COURSE] Διάλεξη
DESCRIPTION:
END:VEVENT
BEGIN:VEVENT
DTSTART:20240206T130000
DURATION:PT03H00M00S
SUMMARY:[COURSE] Διάλεξη - Αίθουσα Β1
DESCRIPTION:
END:VEVENT
BEGIN:VEVENT
DTSTART:20240213T130000
DURATION:PT03H00M00S
SUMMARY:[COURSE] Διάλεξη - Αίθουσα Β1
DESCRIPTION:
END:VEVENT
BEGIN:VEVENT
DTSTART:20240220T130000
DURATION:PT03H00M00S
SUMMARY:[COURSE] Διάλεξη - Αίθουσα Β1
DESCRIPTION:
END:VEVENT
BEGIN:VEVENT
DTSTART:20240227T130000
DURATION:PT03H00M00S
SUMMARY:[COURSE] Διάλεξη - Αίθουσα Β1
DESCRIPTION:
END:VEVENT
BEGIN:VEVENT
DTSTART:20240305T130000
DURATION:PT03H00M00S
SUMMARY:[COURSE] Διάλεξη - Αίθουσα Β1
DESCRIPTION:
END:VEVENT
BEGIN:VEVENT
DTSTART:20240312T130000
DURATION:PT03H00M00S
SUMMARY:[COURSE] Διάλεξη - Αίθουσα Β1
DESCRIPTION:
END:VEVENT
BEGIN:VEVENT
DTSTART:20240319T130000
DURATION:PT03H00M00S
SUMMARY:[COURSE] Διάλεξη - Αίθουσα Β1
DESCRIPTION:
END:VEVENT
BEGIN:VEVENT
DTSTART:20240326T130000
DURATION:PT03H00M00S
SUMMARY:[COURSE] Διάλεξη - Αίθουσα Β1
DESCRIPTION:
END:VEVENT
BEGIN:VEVENT
DTSTART:20240402T130000
DURATION:PT03H00M00S
SUMMARY:[COURSE] Διάλεξη - Αίθουσα Β1
DESCRIPTION:
END:VEVENT
BEGIN:VEVENT
DTSTART:20240409T130000
DURATION:PT03H00M00S
SUMMARY:[COURSE] Διάλεξη - Αίθουσα Β1
DESCRIPTION:
END:VEVENT
BEGIN:VEVENT
DTSTART:20240416T130000
DURATION:PT03H00M00S
SUMMARY:[COURSE] Διάλεξη - Αίθουσα Β1
DESCRIPTION:
END:VEVENT
BEGIN:VEVENT
DTSTART:20240423T130000
DURATION:PT03H00M00S
SUMMARY:[COURSE] Διάλεξη - Αίθουσα Β1
DESCRIPTION:
END:VEVENT
BEGIN:VEVENT
DTSTART:20240514T130000
DURATION:PT03H00M00S
SUMMARY:[COURSE] Διάλεξη - Αίθουσα Β1
DESCRIPTION:
END:VEVENT
BEGIN:VEVENT
DTSTART:20250211T130000
DURATION:PT03H00M00S
SUMMARY:[COURSE] Διάλεξη - Αίθουσα Β1
DESCRIPTION:
END:VEVENT
BEGIN:VEVENT
DTSTART:20250218T130000
DURATION:PT03H00M00S
SUMMARY:[COURSE] Διάλεξη - Αίθουσα Β1
DESCRIPTION:
END:VEVENT
BEGIN:VEVENT
DTSTART:20250225T130000
DURATION:PT03H00M00S
SUMMARY:[COURSE] Διάλεξη - Αίθουσα Β1
DESCRIPTION:
END:VEVENT
BEGIN:VEVENT
DTSTART:20250304T130000
DURATION:PT03H00M00S
SUMMARY:[COURSE] Διάλεξη - Αίθουσα Β1
DESCRIPTION:
END:VEVENT
BEGIN:VEVENT
DTSTART:20250311T130000
DURATION:PT03H00M00S
SUMMARY:[COURSE] Διάλεξη - Αίθουσα Β1
DESCRIPTION:
END:VEVENT
BEGIN:VEVENT
DTSTART:20250318T130000
DURATION:PT03H00M00S
SUMMARY:[COURSE] Διάλεξη - Αίθουσα Β1
DESCRIPTION:
END:VEVENT
BEGIN:VEVENT
DTSTART:20250401T130000
DURATION:PT03H00M00S
SUMMARY:[COURSE] Διάλεξη - Αίθουσα Β1
DESCRIPTION:
END:VEVENT
BEGIN:VEVENT
DTSTART:20250408T130000
DURATION:PT03H00M00S
SUMMARY:[COURSE] Διάλεξη - Αίθουσα Β1
DESCRIPTION:
END:VEVENT
BEGIN:VEVENT
DTSTART:20250429T130000
DURATION:PT03H00M00S
SUMMARY:[COURSE] Διάλεξη - Αίθουσα Β1
DESCRIPTION:
END:VEVENT
BEGIN:VEVENT
DTSTART:20250506T130000
DURATION:PT03H00M00S
SUMMARY:[COURSE] Διάλεξη - Αίθουσα Β1
DESCRIPTION:
END:VEVENT
BEGIN:VEVENT
DTSTART:20250513T130000
DURATION:PT03H00M00S
SUMMARY:[COURSE] Διάλεξη - Αίθουσα Β1
DESCRIPTION:
END:VEVENT
BEGIN:VEVENT
DTSTART:20250520T130000
DURATION:PT03H00M00S
SUMMARY:[COURSE] Διάλεξη - Αίθουσα Β1
DESCRIPTION:
END:VEVENT
BEGIN:VEVENT
DTSTART:20260210T090000
DURATION:PT03H00M00S
SUMMARY:[COURSE] Διάλεξη - Αίθουσα Β1
DESCRIPTION:
END:VEVENT
BEGIN:VEVENT
DTSTART:20260217T090000
DURATION:PT03H00M00S
SUMMARY:[COURSE] Διάλεξη - Αίθουσα Β1
DESCRIPTION:
END:VEVENT
BEGIN:VEVENT
DTSTART:20260224T090000
DURATION:PT03H00M00S
SUMMARY:[COURSE] Διάλεξη - Αίθουσα Β1
DESCRIPTION:
END:VEVENT
BEGIN:VEVENT
DTSTART:20260303T090000
DURATION:PT03H00M00S
SUMMARY:[COURSE] Διάλεξη - Αίθουσα Β1
DESCRIPTION:
END:VEVENT
BEGIN:VEVENT
DTSTART:20260310T090000
DURATION:PT03H00M00S
SUMMARY:[COURSE] Διάλεξη - Αίθουσα Β1
DESCRIPTION:
END:VEVENT
BEGIN:VEVENT
DTSTART:20260317T090000
DURATION:PT03H00M00S
SUMMARY:[COURSE] Διάλεξη - Αίθουσα Β1
DESCRIPTION:
END:VEVENT
BEGIN:VEVENT
DTSTART:20260320T090000
DURATION:PT04H00M00S
SUMMARY:[COURSE] Παρουσιάσεις - Σεμινάριο 1
DESCRIPTION:
END:VEVENT
BEGIN:VEVENT
DTSTART:20260324T090000
DURATION:PT03H00M00S
SUMMARY:[COURSE] Διάλεξη - Αίθουσα Β1
DESCRIPTION:
END:VEVENT
BEGIN:VEVENT
DTSTART:20260331T090000
DURATION:PT03H00M00S
SUMMARY:[COURSE] Διάλεξη - Αίθουσα Β1
DESCRIPTION:
END:VEVENT
BEGIN:VEVENT
DTSTART:20260421T090000
DURATION:PT03H00M00S
SUMMARY:[COURSE] Διάλεξη - Αίθουσα Β1
DESCRIPTION:
END:VEVENT
BEGIN:VEVENT
DTSTART:20260428T090000
DURATION:PT03H00M00S
SUMMARY:[COURSE] Διάλεξη - Αίθουσα Β1
DESCRIPTION:
END:VEVENT
BEGIN:VEVENT
DTSTART:20260505T090000
DURATION:PT03H00M00S
SUMMARY:[COURSE] Διάλεξη - Αίθουσα Β1
DESCRIPTION:
END:VEVENT
BEGIN:VEVENT
DTSTART:20260512T090000
DURATION:PT03H00M00S
SUMMARY:[COURSE] Διάλεξη - Αίθουσα Β1
DESCRIPTION:
END:VEVENT
BEGIN:VEVENT
DTSTART:20260515T090000
DURATION:PT04H00M00S
SUMMARY:[COURSE] Παρουσιάσεις - Σεμινάριο 2
DESCRIPTION:
END:VEVENT
BEGIN:VEVENT
DTSTART:20260519T090000
DURATION:PT03H00M00S
SUMMARY:[COURSE] Διάλεξη - Αίθουσα Β1
DESCRIPTION:
END:VEVENT
BEGIN:VEVENT
DTSTART:20260526T090000
DURATION:PT03H00M00S
SUMMARY:[COURSE] Διάλεξη - Αίθουσα Β1
DESCRIPTION:
END:VEVENT
BEGIN:VEVENT
DTSTART:20260529T090000
DURATION:PT04H00M00S
SUMMARY:[COURSE] Παρουσιάσεις - Σεμινάριο 3
DESCRIPTION:
END:VEVENT
END:VCALENDAR
